BEGIN:VCALENDAR
VERSION:2.0
PRODID:-//Portlug - ECPv6.15.20//NONSGML v1.0//EN
CALSCALE:GREGORIAN
METHOD:PUBLISH
X-ORIGINAL-URL:https://bricksplaceholder.com
X-WR-CALDESC:Events for Portlug
REFRESH-INTERVAL;VALUE=DURATION:PT1H
X-Robots-Tag:noindex
X-PUBLISHED-TTL:PT1H
BEGIN:VTIMEZONE
TZID:America/Los_Angeles
BEGIN:DAYLIGHT
TZOFFSETFROM:-0800
TZOFFSETTO:-0700
TZNAME:PDT
DTSTART:20240310T100000
END:DAYLIGHT
BEGIN:STANDARD
TZOFFSETFROM:-0700
TZOFFSETTO:-0800
TZNAME:PST
DTSTART:20241103T090000
END:STANDARD
BEGIN:DAYLIGHT
TZOFFSETFROM:-0800
TZOFFSETTO:-0700
TZNAME:PDT
DTSTART:20250309T100000
END:DAYLIGHT
BEGIN:STANDARD
TZOFFSETFROM:-0700
TZOFFSETTO:-0800
TZNAME:PST
DTSTART:20251102T090000
END:STANDARD
BEGIN:DAYLIGHT
TZOFFSETFROM:-0800
TZOFFSETTO:-0700
TZNAME:PDT
DTSTART:20260308T100000
END:DAYLIGHT
BEGIN:STANDARD
TZOFFSETFROM:-0700
TZOFFSETTO:-0800
TZNAME:PST
DTSTART:20261101T090000
END:STANDARD
END:VTIMEZONE
BEGIN:VEVENT
DTSTART;TZID=America/Los_Angeles:20250308T120000
DTEND;TZID=America/Los_Angeles:20250308T150000
DTSTAMP:20260424T124530
CREATED:20250302T162328Z
LAST-MODIFIED:20250302T162328Z
UID:40170-1741435200-1741446000@bricksplaceholder.com
SUMMARY:Monthly Meeting March 2025
DESCRIPTION:ACTIVITY: Build Challenge!Purchase a copy of the 31162 Cute Bunny and turn it into a spaceship! Use at least 50% of the set’s parts to build a space vehicle. No extra pieces\, no minifigs. Bring your Bunny Spaceship to the meeting for a fun display. All participants will be eligible to win a LEGO prize! \n\n\n\nNew member? Don’t be shy! Bring yourself\, a recent build to show off (if you want – it’s by no means required)\, and a copy of the draft set if you’d like to participate. We may ask you to introduce yourself (name\, what you like to build)\, but otherwise we won’t put you on the spot!\n\n\n\n\n\n\n\n\n\n\n\n\n\n\n\n\n 
URL:https://bricksplaceholder.com/event/monthly-meeting-march-2025/
LOCATION:BRICKDICULOUS\, 1225 Lloyd Center\, Portland\, 97232\, United States
CATEGORIES:Monthly Meeting
END:VEVENT
END:VCALENDAR